BEGIN:VCALENDAR
VERSION:2.0
PRODID:-//https://town.trenton.ns.ca//NONSGML kigkonsult.se iCalcreator 2.2
 9.29//
CALSCALE:GREGORIAN
METHOD:PUBLISH
UID:08f885b1-0d7d-4393-923a-b92dc2195560
X-WR-CALNAME:JCal Pro Calendar
X-WR-CALDESC:Your online events calendar
X-WR-TIMEZONE:America/Halifax
BEGIN:VTIMEZONE
TZID:America/Halifax
BEGIN:STANDARD
TZNAME:AST
DTSTART:20251102T020000
TZOFFSETFROM:-0300
TZOFFSETTO:-0400
RDATE:20261101T020000
END:STANDARD
BEGIN:DAYLIGHT
TZNAME:ADT
DTSTART:20260308T020000
TZOFFSETFROM:-0400
TZOFFSETTO:-0300
RDATE:20270314T020000
END:DAYLIGHT
END:VTIMEZONE
BEGIN:VEVENT
UID:20250124T073000AST-4661FuLHnV@https://town.trenton.ns.ca/
DTSTAMP:20260421T103450Z
CATEGORIES:Pictou County Solid Waste
DESCRIPTION:<p>Waste&nbsp\;pick-up in the Town of Trenton&nbsp\;is schedule
 d for every second Friday by Pictou County Solid Waste.Recyclables and gar
 bage are picked up on the same day.&nbsp\;All material should&nbsp\;be pla
 ced curbside by 7:00 AM to ensure collection.</p>\n<p>More information can
  be found in the<a href='index.php?Itemid=272' target='_self' title='Waste
  Management'> Waste Management section.</a></p>
DTSTART;TZID=America/Halifax:20250124T073000
DTEND;TZID=America/Halifax:20250124T073000
EXDATE;TZID=America/Halifax:20250418T073000
RRULE:FREQ=WEEKLY;UNTIL=20260130T040000Z;INTERVAL=2;BYDAY=FR
SUMMARY:Garbage Collection
URL:https://town.trenton.ns.ca/21-pictou-county-solid-waste/1869-garbage-co
 llection.html
X-ALT-DESC;FMTTYPE=TEXT/HTML:<p>Waste&nbsp\;pick-up in the Town of Trenton&
 nbsp\;is scheduled for every second Friday by Pictou County Solid Waste.Re
 cyclables and garbage are picked up on the same day.&nbsp\;All material sh
 ould&nbsp\;be placed curbside by 7:00 AM to ensure collection.</p>\n<p>Mor
 e information can be found in the<a href='index.php?Itemid=272' target='_s
 elf' title='Waste Management'> Waste Management section.</a></p>
END:VEVENT
BEGIN:VEVENT
UID:20250211T180000AST-8546vkg56s@https://town.trenton.ns.ca/
DTSTAMP:20260421T103450Z
CATEGORIES:Town Council Meetings
DESCRIPTION:<p>Town Council meetings take place the second<span>&nbsp\;Tues
 day of each month at&nbsp\;</span>6:00pm in the Council Chambers&nbsp\;(Se
 cond floor of the Administration Building - 120 Main Street\, Trenton).</p
 >\n<p>The full meeting schedule can be found on the <a href='index.php?Ite
 mid=153' target='_self' title='Council Meeting Schedule'>Council Meeting p
 age.</a></p>
DTSTART;TZID=America/Halifax:20250211T180000
DTEND;TZID=America/Halifax:20250211T180000
RRULE:FREQ=MONTHLY;UNTIL=20260130T040000Z;INTERVAL=1;BYDAY=TU;BYSETPOS=2
SUMMARY:Council Meeting
URL:https://town.trenton.ns.ca/16-town-council-meetings/1857-council-meetin
 g.html
X-ALT-DESC;FMTTYPE=TEXT/HTML:<p>Town Council meetings take place the second
 <span>&nbsp\;Tuesday of each month at&nbsp\;</span>6:00pm in the Council C
 hambers&nbsp\;(Second floor of the Administration Building - 120 Main Stre
 et\, Trenton).</p>\n<p>The full meeting schedule can be found on the <a hr
 ef='index.php?Itemid=153' target='_self' title='Council Meeting Schedule'>
 Council Meeting page.</a></p>
END:VEVENT
BEGIN:VEVENT
UID:20250124T073000AST-4661FuLHnV@https://town.trenton.ns.ca/
DTSTAMP:20260421T103450Z
CATEGORIES:Pictou County Solid Waste
DESCRIPTION:<p>Waste&nbsp\;pick-up in the Town of Trenton&nbsp\;is schedule
 d for every second Friday by Pictou County Solid Waste.Recyclables and gar
 bage are picked up on the same day.&nbsp\;All material should&nbsp\;be pla
 ced curbside by 7:00 AM to ensure collection.</p>\n<p>More information can
  be found in the<a href='index.php?Itemid=272' target='_self' title='Waste
  Management'> Waste Management section.</a></p>\n<p>&nbsp\;</p>\n<p>Note: 
 Due to Good Friday\, this pick up date will be rescheduled. Check out the 
 Waste Management section or Pictou County Solid Waste for updates.</p>
DTSTART;TZID=America/Halifax:20250418T073000
DTEND;TZID=America/Halifax:20250418T073000
SUMMARY:Garbage Collection
URL:https://town.trenton.ns.ca/21-pictou-county-solid-waste/1875-garbage-co
 llection.html
X-ALT-DESC;FMTTYPE=TEXT/HTML:<p>Waste&nbsp\;pick-up in the Town of Trenton&
 nbsp\;is scheduled for every second Friday by Pictou County Solid Waste.Re
 cyclables and garbage are picked up on the same day.&nbsp\;All material sh
 ould&nbsp\;be placed curbside by 7:00 AM to ensure collection.</p>\n<p>Mor
 e information can be found in the<a href='index.php?Itemid=272' target='_s
 elf' title='Waste Management'> Waste Management section.</a></p>\n<p>&nbsp
 \;</p>\n<p>Note: Due to Good Friday\, this pick up date will be reschedule
 d. Check out the Waste Management section or Pictou County Solid Waste for
  updates.</p>
END:VEVENT
BEGIN:VEVENT
UID:20250128T180000AST-7183uwhdBN@https://town.trenton.ns.ca/
DTSTAMP:20260421T103450Z
CATEGORIES:Town Council Meetings
DESCRIPTION:<p>Committee of the Whole meetings take place the<span><span>&n
 bsp\;</span>last Tuesday of each month at&nbsp\;</span>6:00pm in the Counc
 il Chambers&nbsp\;(Second floor of the Administration Building - 120 Main 
 Street\, Trenton).</p>\n<p>The full meeting schedule can be found on the <
 a href='index.php?Itemid=153' target='_self' title='Council Meeting Schedu
 le'>Council Meeting page.</a></p>
DTSTART;TZID=America/Halifax:20250128T180000
DTEND;TZID=America/Halifax:20250128T180000
RRULE:FREQ=MONTHLY;UNTIL=20251226T040000Z;INTERVAL=1;BYDAY=TU;BYSETPOS=-1
SUMMARY:Committee of the Whole Meeting
URL:https://town.trenton.ns.ca/16-town-council-meetings/1846-committee-of-t
 he-whole-meeting.html
X-ALT-DESC;FMTTYPE=TEXT/HTML:<p>Committee of the Whole meetings take place 
 the<span><span>&nbsp\;</span>last Tuesday of each month at&nbsp\;</span>6:
 00pm in the Council Chambers&nbsp\;(Second floor of the Administration Bui
 lding - 120 Main Street\, Trenton).</p>\n<p>The full meeting schedule can 
 be found on the <a href='index.php?Itemid=153' target='_self' title='Counc
 il Meeting Schedule'>Council Meeting page.</a></p>
END:VEVENT
END:VCALENDAR
